Workbook

Sheet Summary
B2: Counter | C2: Scale | D2: Multiple FG | G2: One FG
D3: Min | E3: Max | F3: Avg | G3: Min | H3: Max | I3: Avg
B4: H Disk Reads / sec | C4: 0.1 | D4: =MIN(PerfMon_MultipleFG!$B$2:$B$369) -> 0 | E4: =MAX(PerfMon_MultipleFG!$B$2:$B$369) -> 522.80529 | F4: =AVERAGE(PerfMon_MultipleFG!$B$2:$B$369) -> 13.950302
B5: F Disk Reads / sec | C5: 0.1 | D5: =MIN(PerfMon_MultipleFG!$C$2:$C$369) -> 0 | E5: =MAX(PerfMon_MultipleFG!$C$2:$C$369) -> 1093.6997 | F5: =AVERAGE(PerfMon_MultipleFG!$C$2:$C$369) -> 55.111922 | G5: =MIN(PerfMon_SingleFG!$B$2:$B$305) -> 0 | H5: =MAX(PerfMon_SingleFG!$B$2:$B$305) -> 1260.0652 | I5: =AVERAGE(PerfMon_SingleFG!$B$2:$B$305) -> 69.710752
B6: H Avg. Disk sec/Read | C6: 1 | D6: =MIN(PerfMon_MultipleFG!$D$2:$D$369) -> 0 | E6: =MAX(PerfMon_MultipleFG!$D$2:$D$369) -> 35.32855 | F6: =AVERAGE(PerfMon_MultipleFG!$D$2:$D$369) -> 2.5961615
B7: F Avg. Disk sec/Read | C7: 1 | D7: =MIN(PerfMon_MultipleFG!$E$2:$E$369) -> 0 | E7: =MAX(PerfMon_MultipleFG!$E$2:$E$369) -> 2.6729312 | F7: =AVERAGE(PerfMon_MultipleFG!$D$2:$E$369) -> 1.3461757 | G7: =MIN(PerfMon_SingleFG!$C$2:$C$305) -> 0 | H7: =MAX(PerfMon_SingleFG!$C$2:$C$305) -> 32.2308 | I7: =AVERAGE(PerfMon_SingleFG!$C$2:$C$305) -> 3.2124305
B8: H Disk Writes/sec | C8: 1 | D8: =MIN(PerfMon_MultipleFG!$F$2:$F$369) -> 0 | E8: =MAX(PerfMon_MultipleFG!$F$2:$F$369) -> 8.0004137 | F8: =AVERAGE(PerfMon_MultipleFG!$F$2:$F$369) -> 4.009882
B9: F Disk Writes/sec | C9: 1 | D9: =MIN(PerfMon_MultipleFG!$G$2:$G$369) -> 0 | E9: =MAX(PerfMon_MultipleFG!$G$2:$G$369) -> 39.905329 | F9: =AVERAGE(PerfMon_MultipleFG!$G$2:$G$369) -> 2.7227927 | G9: =MIN(PerfMon_SingleFG!$D$2:$D$305) -> 0 | H9: =MAX(PerfMon_SingleFG!$D$2:$D$305) -> 32.401111 | I9: =AVERAGE(PerfMon_SingleFG!$D$2:$D$305) -> 7.2269706
B10: H Avg. Disk sec/Write | C10: 1 | D10: =MIN(PerfMon_MultipleFG!$H$2:$H$369) -> 0 | E10: =MAX(PerfMon_MultipleFG!$H$2:$H$369) -> 107.53143 | F10: =AVERAGE(PerfMon_MultipleFG!$H$2:$H$369) -> 17.814537
B11: F Avg. Disk sec/Write | C11: 1 | D11: =MIN(PerfMon_MultipleFG!$I$2:$I$369) -> 0 | E11: =MAX(PerfMon_MultipleFG!$I$2:$I$369) -> 12.45711 | F11: =AVERAGE(PerfMon_MultipleFG!$I$2:$I$369) -> 1.2264966 | G11: =MIN(PerfMon_SingleFG!$E$2:$E$305) -> 0 | H11: =MAX(PerfMon_SingleFG!$E$2:$E$305) -> 28.431821 | I11: =AVERAGE(PerfMon_SingleFG!$E$2:$E$305) -> 5.8675586

Sheet PerfMon_SingleFG
A1: datetime | B1: F Disk Reads/sec | C1: F Avg. Disk sec/Read | D1: F Disk Writes/sec | E1: F Avg. Disk sec/Write
A2: 42154.509 | B2: 0 | C2: 0 | D2: 0 | E2: 0
A3: 42154.509 | B3: 0 | C3: 0 | D3: 0 | E3: 0
A4: 42154.509 | B4: 0 | C4: 0 | D4: 0 | E4: 0
A5: 42154.509 | B5: 0 | C5: 0 | D5: 0 | E5: 0
A6: 42154.51 | B6: 0 | C6: 0 | D6: 0 | E6: 0
A7: 42154.51 | B7: 0 | C7: 0 | D7: 0 | E7: 0
A8: 42154.51 | B8: 0 | C8: 0 | D8: 0 | E8: 0
A9: 42154.51 | B9: 0 | C9: 0 | D9: 0 | E9: 0
A10: 42154.51 | B10: 595.93793 | C10: 1.2842886 | D10: 22.397667 | E10: 0.92122768
A11: 42154.51 | B11: 177.97131 | C11: 4.2739944 | D11: 20.196744 | E11: 2.3836
A12: 42154.51 | B12: 275.99825 | C12: 8.616937 | D12: 10.199935 | E12: 4.5189824
A13: 42154.51 | B13: 0 | C13: 0 | D13: 4.7991376 | E13: 9.5333708
... A305: 42154.527 | B305: 0 | C305: 0 | D305: 0 | E305: 0

Sheet PerfMon_MultipleFG
A1: datetime | B1: H Disk Reads / sec | C1: F Disk Reads / sec | D1: H Avg. Disk sec/Read | E1: F Avg. Disk sec/Read | F1: H Disk Writes/sec | G1: F Disk Writes/sec | H1: H Avg. Disk sec/Write | I1: F Avg. Disk sec/Write
A2: 42154.467
A3: 42154.467 | B3: 0 | C3: 0 | D3: 0 | E3: 0 | F3: 0 | G3: 0 | H3: 0 | I3: 0
A4: 42154.467 | B4: 0 | C4: 0 | D4: 0 | E4: 0 | F4: 0 | G4: 0 | H4: 0 | I4: 0
A5: 42154.467 | B5: 522.80529 | C5: 73.831281 | D5: 0.29146145 | E5: 0.35527027 | F5: 2.194984 | G5: 13.768536 | H5: 0.94522726 | I5: 0.85318551
A6: 42154.467 | B6: 288.48532 | C6: 184.31007 | D6: 2.9379833 | E6: 1.4982359 | F6: 4.2070776 | G6: 29.850217 | H6: 3.2618762 | I6: 1.242649
A7: 42154.467 | B7: 0 | C7: 55.995154 | D7: 0 | E7: 1.4048357 | F7: 4.9995673 | G7: 12.798892 | H7: 4.574216 | I7: 1.7326766
A8: 42154.467 | B8: 5.9992846 | C8: 31.996184 | D8: 10.524933 | E8: 2.6729312 | F8: 3.999523 | G8: 11.998569 | H8: 6.051375 | I8: 3.2439967
A9: 42154.467 | B9: 5.9996568 | C9: 15.999085 | D9: 6.7862667 | E9: 2.2795625 | F9: 3.9997712 | G9: 11.399348 | H9: 6.06299 | I9: 3.4101526
A10: 42154.467 | B10: 5.9989013 | C10: 137.97473 | D10: 5.2425 | E10: 2.5795942 | F10: 3.9992675 | G10: 10.798022 | H10: 4.11497 | I10: 4.6238352
A11: 42154.467 | B11: 35.993108 | C11: 111.97856 | D11: 0.92950556 | E11: 0.68990536 | F11: 5.1990044 | G11: 6.9986598 | H11: 2.6633269 | I11: 2.97248
A12: 42154.467 | B12: 141.66392 | C12: 598.57993 | D12: 4.3411296 | E12: 0.140839 | F12: 4.3895861 | G12: 39.905329 | H12: 2.5545909 | I12: 0.3710465
A13: 42154.467 | B13: 0 | C13: 571.66289 | D13: 0 | E13: 0.21634491 | F13: 5.4157537 | G13: 16.046678 | H13: 4.5429185 | I13: 0.52384375
A14: 42154.468 | B14: 0 | C14: 258.01069 | D14: 0 | E14: 0.36742791 | F14: 4.4001824 | G14: 12.000497 | H14: 10.093023 | I14: 0.62785166
... A369: 42154.49 | B369: 0 | C369: 0 | D369: 0 | E369: 0 | F369: 0 | G369: 0 | H369: 0 | I369: 0
